BEGIN:VCALENDAR
VERSION:2.0
PRODID:-//wp-events-plugin.com//7.2.3.1//EN
TZID:Europe/Paris
X-WR-TIMEZONE:Europe/Paris
BEGIN:VEVENT
UID:2@spartiatesbeauval.com
DTSTART;TZID=Europe/Paris:20250327T100000
DTEND;TZID=Europe/Paris:20250327T150000
DTSTAMP:20250221T083745Z
URL:https://spartiatesbeauval.com/events/1er-tournoi-departemental-3x3-de-
 para-basket-ball-adapte-jeunes/
SUMMARY:1er tournoi Somme 3x3 Para Basket Adapté jeunes et adultes
DESCRIPTION:\nNotre club organise cette année le tout premier tournoi de P
 ara Basket-Ball Adapté de notre département. Soucieux d'être un acteur 
 dynamique du Sport Adapté sur notre territoire\, nous allons mettre les p
 etits plats dans les grands afin d'accueillir au mieux les joueuses et jou
 eurs samarien(ne)s présen(e)s à cet évènement.\nC'est à Beauval que c
 ela se passe alors\, n'attendez plus et venez nous rejoindre !\n\nInscript
 ion gratuite obligatoire\, se rapprocher de Monsieur MARREL Clément\, Con
 seiller Technique Fédéral CDSA80 / clement.marrel@sportadapte.fr ou 06.5
 9.86.84.62\n
ATTACH;FMTTYPE=image/jpeg:https://spartiatesbeauval.com/wp-content/uploads
 /2024/11/Tournnoi-hauts-de-france-3x3_2025.webp
CATEGORIES:Basket Adapté
LOCATION:Salle des sports Eugène Greuet\, Chemin de Beauquesne\, Beauval\,
  80630\, France
X-APPLE-STRUCTURED-LOCATION;VALUE=URI;X-ADDRESS=Chemin de Beauquesne\, Beau
 val\, 80630\, France;X-APPLE-RADIUS=100;X-TITLE=Salle des sports Eugène G
 reuet:geo:0,0
END:VEVENT
BEGIN:VTIMEZONE
TZID:Europe/Paris
X-LIC-LOCATION:Europe/Paris
BEGIN:STANDARD
DTSTART:20241027T020000
TZOFFSETFROM:+0200
TZOFFSETTO:+0100
TZNAME:CET
END:STANDARD
END:VTIMEZONE
END:VCALENDAR