BEGIN:VCALENDAR
VERSION:2.0
PRODID:-//wp-events-plugin.com//7.2.3.1//EN
TZID:Europe/Paris
X-WR-TIMEZONE:Europe/Paris
BEGIN:VEVENT
UID:14@spartiatesbeauval.com
DTSTART;TZID=Europe/Paris:20251023T134500
DTEND;TZID=Europe/Paris:20251023T151500
DTSTAMP:20251007T060812Z
URL:https://spartiatesbeauval.com/events/ceremonie-mgen/
SUMMARY:Cérémonie de remise de tenues de match
DESCRIPTION:
ATTACH;FMTTYPE=image/jpeg:https://spartiatesbeauval.com/wp-content/uploads
 /2025/10/ceremonie-mgen.webp
CATEGORIES:Basket Adapté
LOCATION:Salle des sports Eugène Greuet\, Chemin de Beauquesne\, Beauval\,
  80630\, France
X-APPLE-STRUCTURED-LOCATION;VALUE=URI;X-ADDRESS=Chemin de Beauquesne\, Beau
 val\, 80630\, France;X-APPLE-RADIUS=100;X-TITLE=Salle des sports Eugène G
 reuet:geo:0,0
END:VEVENT
BEGIN:VTIMEZONE
TZID:Europe/Paris
X-LIC-LOCATION:Europe/Paris
BEGIN:DAYLIGHT
DTSTART:20250330T030000
TZOFFSETFROM:+0100
TZOFFSETTO:+0200
TZNAME:CEST
END:DAYLIGHT
END:VTIMEZONE
END:VCALENDAR