BEGIN:VCALENDAR
VERSION:2.0
PRODID:-//wp-events-plugin.com//7.2.3.1//EN
TZID:Europe/Paris
X-WR-TIMEZONE:Europe/Paris
BEGIN:VEVENT
UID:13@spartiatesbeauval.com
DTSTART;TZID=Europe/Paris:20251106T090000
DTEND;TZID=Europe/Paris:20251106T150000
DTSTAMP:20251007T065323Z
URL:https://spartiatesbeauval.com/events/championnat-departemental-para-cr
 oss-adaptee/
SUMMARY:Championnat Départemental Para Cross Adaptée
DESCRIPTION:
ATTACH;FMTTYPE=image/jpeg:https://spartiatesbeauval.com/wp-content/uploads
 /2025/09/CD-para-cross-adapte-1.webp
CATEGORIES:Basket Adapté
LOCATION:Longeau\, 80330\, 
X-APPLE-STRUCTURED-LOCATION;VALUE=URI;X-ADDRESS=80330\, ;X-APPLE-RADIUS=100
 ;X-TITLE=Longeau:geo:0,0
END:VEVENT
BEGIN:VTIMEZONE
TZID:Europe/Paris
X-LIC-LOCATION:Europe/Paris
BEGIN:STANDARD
DTSTART:20251026T020000
TZOFFSETFROM:+0200
TZOFFSETTO:+0100
TZNAME:CET
END:STANDARD
END:VTIMEZONE
END:VCALENDAR