BEGIN:VCALENDAR
VERSION:2.0
PRODID:-//wp-events-plugin.com//7.2.3.1//EN
TZID:Europe/Paris
X-WR-TIMEZONE:Europe/Paris
BEGIN:VEVENT
UID:4@spartiatesbeauval.com
DTSTART;TZID=Europe/Paris:20250213T100000
DTEND;TZID=Europe/Paris:20250213T150000
DTSTAMP:20250119T213841Z
URL:https://spartiatesbeauval.com/events/initiation-basket-adapte-3%e1%b5%
 89-journee-aries80/
SUMMARY:Initiation Basket Adapté - 3ᵉ journée ARIES80.
DESCRIPTION:Pour la troisième année consécutive\, nous nous associons à
  l’ARIES80 ainsi qu’à l’ADSEA80 afin d’organiser une journée d
 ’initiation au Basket-Ball destiné aux adolescents et jeunes adultes de
 s Établissements Sociaux et Médico-Sociaux de notre département.
ATTACH;FMTTYPE=image/jpeg:https://spartiatesbeauval.com/wp-content/uploads
 /2025/01/Journee_aries80_2025.webp
CATEGORIES:Basket Adapté
LOCATION:Salle des sports Eugène Greuet\, Chemin de Beauquesne\, Beauval\,
  80630\, France
X-APPLE-STRUCTURED-LOCATION;VALUE=URI;X-ADDRESS=Chemin de Beauquesne\, Beau
 val\, 80630\, France;X-APPLE-RADIUS=100;X-TITLE=Salle des sports Eugène G
 reuet:geo:0,0
END:VEVENT
BEGIN:VTIMEZONE
TZID:Europe/Paris
X-LIC-LOCATION:Europe/Paris
BEGIN:STANDARD
DTSTART:20241027T020000
TZOFFSETFROM:+0200
TZOFFSETTO:+0100
TZNAME:CET
END:STANDARD
END:VTIMEZONE
END:VCALENDAR