BEGIN:VCALENDAR
VERSION:2.0
PRODID:-//wp-events-plugin.com//7.2.3.1//EN
TZID:Europe/Paris
X-WR-TIMEZONE:Europe/Paris
BEGIN:VEVENT
UID:11@spartiatesbeauval.com
DTSTART;TZID=Europe/Paris:20250928T094500
DTEND;TZID=Europe/Paris:20250928T153000
DTSTAMP:20250925T161801Z
URL:https://spartiatesbeauval.com/events/open-u11/
SUMMARY:Open U11
DESCRIPTION:L'Open U11 mixte est le tournoi de début de saison qui permet 
 de déterminer des poules de niveaux afin que les clubs qui se rencontrent
  ensuite en championnat aient des jeunes d'un niveau relativement homogèn
 e.\nPour nous c'est surtout une façon de démarrer l'aventure et de lance
 r pour la toute première fois de l'histoire de notre jeune club une équi
 pe dans le grand bain !
ATTACH;FMTTYPE=image/jpeg:https://spartiatesbeauval.com/wp-content/uploads
 /2025/09/Affiche-Open-U11-CD-80.webp
CATEGORIES:Vie du club
LOCATION:Gymnase des Quatre Chênes\, 8 Rue Lescouvé\, Amiens\, 80000\, 
X-APPLE-STRUCTURED-LOCATION;VALUE=URI;X-ADDRESS=8 Rue Lescouvé\, Amiens\, 
 80000\, ;X-APPLE-RADIUS=100;X-TITLE=Gymnase des Quatre Chênes:geo:0,0
END:VEVENT
BEGIN:VTIMEZONE
TZID:Europe/Paris
X-LIC-LOCATION:Europe/Paris
BEGIN:DAYLIGHT
DTSTART:20250330T030000
TZOFFSETFROM:+0100
TZOFFSETTO:+0200
TZNAME:CEST
END:DAYLIGHT
END:VTIMEZONE
END:VCALENDAR