BEGIN:VCALENDAR
VERSION:2.0
PRODID:-//wp-events-plugin.com//7.2.3.1//EN
TZID:Europe/Paris
X-WR-TIMEZONE:Europe/Paris
BEGIN:VEVENT
UID:6@spartiatesbeauval.com
DTSTART;TZID=Europe/Paris:20251127T100000
DTEND;TZID=Europe/Paris:20251127T160000
DTSTAMP:20251007T231921Z
URL:https://spartiatesbeauval.com/events/tournoi-loisir-cdsa80/
SUMMARY:Tournoi loisir CDSA80
DESCRIPTION:
ATTACH;FMTTYPE=image/jpeg:https://spartiatesbeauval.com/wp-content/uploads
 /2025/07/Tournnoi-hauts-de-france-3x3.png.png
CATEGORIES:Basket Adapté
LOCATION:Salle des sports Eugène Greuet\, Chemin de Beauquesne\, Beauval\,
  80630\, France
X-APPLE-STRUCTURED-LOCATION;VALUE=URI;X-ADDRESS=Chemin de Beauquesne\, Beau
 val\, 80630\, France;X-APPLE-RADIUS=100;X-TITLE=Salle des sports Eugène G
 reuet:geo:0,0
END:VEVENT
BEGIN:VTIMEZONE
TZID:Europe/Paris
X-LIC-LOCATION:Europe/Paris
BEGIN:STANDARD
DTSTART:20251026T020000
TZOFFSETFROM:+0200
TZOFFSETTO:+0100
TZNAME:CET
END:STANDARD
END:VTIMEZONE
END:VCALENDAR